BEGIN:VCALENDAR
VERSION:2.0
PRODID:icalendar-ruby
CALSCALE:GREGORIAN
METHOD:PUBLISH
BEGIN:VEVENT
DTSTAMP:20260421T090203Z
UID:101-468022@eastmesabc.com
DTSTART;VALUE=DATE:20261122
DTEND;VALUE=DATE:20261122
CLASS:PUBLIC
CREATED:20260302T105137
DESCRIPTION:More details to come!
LAST-MODIFIED:20260302T105137
LOCATION:
SUMMARY:Thanksgiving Banquet
URL;VALUE=URI:https://eastmesabc.com/events/thanksgiving-banquet--101/2026-
 11-22
END:VEVENT
END:VCALENDAR
