BEGIN:VCALENDAR
VERSION:2.0
PRODID:icalendar-ruby
CALSCALE:GREGORIAN
METHOD:PUBLISH
BEGIN:VEVENT
DTSTAMP:20260422T213351Z
UID:74-641606@eastmesabc.com
DTSTART:20261101T160000Z
DTEND:20261101T170000Z
CLASS:PUBLIC
CREATED:20260422T141202
DESCRIPTION:
LAST-MODIFIED:20260422T141202
LOCATION:
SUMMARY:Sunday School/Bible Classes
URL;VALUE=URI:https://eastmesabc.com/events/sunday-school-bible-classes/202
 6-11-01
END:VEVENT
END:VCALENDAR
