BEGIN:VCALENDAR
VERSION:2.0
PRODID:icalendar-ruby
CALSCALE:GREGORIAN
METHOD:PUBLISH
BEGIN:VEVENT
DTSTAMP:20260422T134503Z
UID:74-639843@eastmesabc.com
DTSTART:20260927T160000Z
DTEND:20260927T170000Z
CLASS:PUBLIC
CREATED:20260422T052650
DESCRIPTION:
LAST-MODIFIED:20260422T052650
LOCATION:
SUMMARY:Sunday School/Bible Classes
URL;VALUE=URI:https://eastmesabc.com/events/sunday-school-bible-classes/202
 6-09-27
END:VEVENT
END:VCALENDAR
