BEGIN:VCALENDAR
VERSION:2.0
PRODID:icalendar-ruby
CALSCALE:GREGORIAN
METHOD:PUBLISH
BEGIN:VEVENT
DTSTAMP:20260422T122319Z
UID:74-639256@eastmesabc.com
DTSTART:20260920T160000Z
DTEND:20260920T170000Z
CLASS:PUBLIC
CREATED:20260421T182004
DESCRIPTION:
LAST-MODIFIED:20260421T182004
LOCATION:
SUMMARY:Sunday School/Bible Classes
URL;VALUE=URI:https://eastmesabc.com/events/sunday-school-bible-classes/202
 6-09-20
END:VEVENT
END:VCALENDAR
