BEGIN:VCALENDAR
VERSION:2.0
PRODID:icalendar-ruby
CALSCALE:GREGORIAN
METHOD:PUBLISH
BEGIN:VEVENT
DTSTAMP:20260422T213852Z
UID:11-641312@eastmesabc.com
DTSTART:20261031T160000Z
DTEND:20261031T170000Z
CLASS:PUBLIC
CREATED:20260422T141202
DESCRIPTION:
LAST-MODIFIED:20260422T141202
LOCATION:
SUMMARY:Soul-Winning
URL;VALUE=URI:https://eastmesabc.com/events/soul-winning/2026-10-31
END:VEVENT
END:VCALENDAR
