BEGIN:VCALENDAR
VERSION:2.0
PRODID:icalendar-ruby
CALSCALE:GREGORIAN
METHOD:PUBLISH
BEGIN:VEVENT
DTSTAMP:20260422T200352Z
UID:11-640725@eastmesabc.com
DTSTART:20261024T160000Z
DTEND:20261024T170000Z
CLASS:PUBLIC
CREATED:20260422T111649
DESCRIPTION:
LAST-MODIFIED:20260422T111649
LOCATION:
SUMMARY:Soul-Winning
URL;VALUE=URI:https://eastmesabc.com/events/soul-winning/2026-10-24
END:VEVENT
END:VCALENDAR
