BEGIN:VCALENDAR
VERSION:2.0
PRODID:icalendar-ruby
CALSCALE:GREGORIAN
METHOD:PUBLISH
BEGIN:VEVENT
DTSTAMP:20260422T183743Z
UID:11-640724@eastmesabc.com
DTSTART:20261017T160000Z
DTEND:20261017T170000Z
CLASS:PUBLIC
CREATED:20260422T111649
DESCRIPTION:
LAST-MODIFIED:20260422T111649
LOCATION:
SUMMARY:Soul-Winning
URL;VALUE=URI:https://eastmesabc.com/events/soul-winning/2026-10-17
END:VEVENT
END:VCALENDAR
