BEGIN:VCALENDAR
VERSION:2.0
PRODID:icalendar-ruby
CALSCALE:GREGORIAN
METHOD:PUBLISH
BEGIN:VEVENT
DTSTAMP:20260422T171403Z
UID:11-640137@eastmesabc.com
DTSTART:20261010T160000Z
DTEND:20261010T170000Z
CLASS:PUBLIC
CREATED:20260422T082159
DESCRIPTION:
LAST-MODIFIED:20260422T082159
LOCATION:
SUMMARY:Soul-Winning
URL;VALUE=URI:https://eastmesabc.com/events/soul-winning/2026-10-10
END:VEVENT
END:VCALENDAR
