BEGIN:VCALENDAR
VERSION:2.0
PRODID:icalendar-ruby
CALSCALE:GREGORIAN
METHOD:PUBLISH
BEGIN:VEVENT
DTSTAMP:20260422T124428Z
UID:11-639548@eastmesabc.com
DTSTART:20260919T160000Z
DTEND:20260919T170000Z
CLASS:PUBLIC
CREATED:20260422T052649
DESCRIPTION:
LAST-MODIFIED:20260422T052649
LOCATION:
SUMMARY:Soul-Winning
URL;VALUE=URI:https://eastmesabc.com/events/soul-winning/2026-09-19
END:VEVENT
END:VCALENDAR
