BEGIN:VCALENDAR
VERSION:2.0
PRODID:icalendar-ruby
CALSCALE:GREGORIAN
METHOD:PUBLISH
BEGIN:VEVENT
DTSTAMP:20260422T223828Z
UID:75-641702@eastmesabc.com
DTSTART:20261101T170000Z
DTEND:20261101T183000Z
CLASS:PUBLIC
CREATED:20260422T141202
DESCRIPTION:
LAST-MODIFIED:20260422T141202
LOCATION:
SUMMARY:Morning Worship Service
URL;VALUE=URI:https://eastmesabc.com/events/morning-worship-service/2026-11
 -01
END:VEVENT
END:VCALENDAR
