BEGIN:VCALENDAR
VERSION:2.0
PRODID:icalendar-ruby
CALSCALE:GREGORIAN
METHOD:PUBLISH
BEGIN:VEVENT
DTSTAMP:20260422T191713Z
UID:75-641114@eastmesabc.com
DTSTART:20261018T170000Z
DTEND:20261018T183000Z
CLASS:PUBLIC
CREATED:20260422T111649
DESCRIPTION:
LAST-MODIFIED:20260422T111649
LOCATION:
SUMMARY:Morning Worship Service
URL;VALUE=URI:https://eastmesabc.com/events/morning-worship-service/2026-10
 -18
END:VEVENT
END:VCALENDAR
