BEGIN:VCALENDAR
VERSION:2.0
PRODID:icalendar-ruby
CALSCALE:GREGORIAN
METHOD:PUBLISH
BEGIN:VEVENT
DTSTAMP:20260422T161712Z
UID:75-640526@eastmesabc.com
DTSTART:20261004T170000Z
DTEND:20261004T183000Z
CLASS:PUBLIC
CREATED:20260422T082200
DESCRIPTION:
LAST-MODIFIED:20260422T082200
LOCATION:
SUMMARY:Morning Worship Service
URL;VALUE=URI:https://eastmesabc.com/events/morning-worship-service/2026-10
 -04
END:VEVENT
END:VCALENDAR
