BEGIN:VCALENDAR
VERSION:2.0
PRODID:icalendar-ruby
CALSCALE:GREGORIAN
METHOD:PUBLISH
BEGIN:VEVENT
DTSTAMP:20260422T145134Z
UID:75-639939@eastmesabc.com
DTSTART:20260927T170000Z
DTEND:20260927T183000Z
CLASS:PUBLIC
CREATED:20260422T052650
DESCRIPTION:
LAST-MODIFIED:20260422T052650
LOCATION:
SUMMARY:Morning Worship Service
URL;VALUE=URI:https://eastmesabc.com/events/morning-worship-service/2026-09
 -27
END:VEVENT
END:VCALENDAR
