BEGIN:VCALENDAR
VERSION:2.0
PRODID:icalendar-ruby
CALSCALE:GREGORIAN
METHOD:PUBLISH
BEGIN:VEVENT
DTSTAMP:20260422T205130Z
UID:76-641212@eastmesabc.com
DTSTART:20261102T000000Z
DTEND:20261102T010000Z
CLASS:PUBLIC
CREATED:20260422T111649
DESCRIPTION:
LAST-MODIFIED:20260422T111649
LOCATION:
SUMMARY:Evening Worship Service
URL;VALUE=URI:https://eastmesabc.com/events/evening-worship-service/2026-11
 -01
END:VEVENT
END:VCALENDAR
