BEGIN:VCALENDAR
VERSION:2.0
PRODID:icalendar-ruby
CALSCALE:GREGORIAN
METHOD:PUBLISH
BEGIN:VEVENT
DTSTAMP:20260422T161406Z
UID:76-640623@eastmesabc.com
DTSTART:20261012T000000Z
DTEND:20261012T010000Z
CLASS:PUBLIC
CREATED:20260422T082200
DESCRIPTION:
LAST-MODIFIED:20260422T082200
LOCATION:
SUMMARY:Evening Worship Service
URL;VALUE=URI:https://eastmesabc.com/events/evening-worship-service/2026-10
 -11
END:VEVENT
END:VCALENDAR
