BEGIN:VCALENDAR
VERSION:2.0
PRODID:icalendar-ruby
CALSCALE:GREGORIAN
METHOD:PUBLISH
BEGIN:VEVENT
DTSTAMP:20260422T131758Z
UID:76-640035@eastmesabc.com
DTSTART:20260928T000000Z
DTEND:20260928T010000Z
CLASS:PUBLIC
CREATED:20260422T052650
DESCRIPTION:
LAST-MODIFIED:20260422T052650
LOCATION:
SUMMARY:Evening Worship Service
URL;VALUE=URI:https://eastmesabc.com/events/evening-worship-service/2026-09
 -27
END:VEVENT
END:VCALENDAR
