BEGIN:VCALENDAR
VERSION:2.0
PRODID:icalendar-ruby
CALSCALE:GREGORIAN
METHOD:PUBLISH
BEGIN:VEVENT
DTSTAMP:20260422T114125Z
UID:76-639448@eastmesabc.com
DTSTART:20260921T000000Z
DTEND:20260921T010000Z
CLASS:PUBLIC
CREATED:20260421T182004
DESCRIPTION:
LAST-MODIFIED:20260421T182004
LOCATION:
SUMMARY:Evening Worship Service
URL;VALUE=URI:https://eastmesabc.com/events/evening-worship-service/2026-09
 -20
END:VEVENT
END:VCALENDAR
