BEGIN:VCALENDAR
VERSION:2.0
PRODID:icalendar-ruby
CALSCALE:GREGORIAN
METHOD:PUBLISH
BEGIN:VEVENT
DTSTAMP:20260422T203753Z
UID:22-640924@eastmesabc.com
DTSTART:20261029T010000Z
DTEND:20261029T023000Z
CLASS:PUBLIC
CREATED:20260422T111649
DESCRIPTION:
LAST-MODIFIED:20260422T111649
LOCATION:
SUMMARY:Evening Bible Study & Prayer
URL;VALUE=URI:https://eastmesabc.com/events/evening-bible-study-prayer/2026
 -10-28
END:VEVENT
END:VCALENDAR
