BEGIN:VCALENDAR
VERSION:2.0
PRODID:icalendar-ruby
CALSCALE:GREGORIAN
METHOD:PUBLISH
BEGIN:VEVENT
DTSTAMP:20260422T173221Z
UID:22-640336@eastmesabc.com
DTSTART:20261015T010000Z
DTEND:20261015T023000Z
CLASS:PUBLIC
CREATED:20260422T082200
DESCRIPTION:
LAST-MODIFIED:20260422T082200
LOCATION:
SUMMARY:Evening Bible Study & Prayer
URL;VALUE=URI:https://eastmesabc.com/events/evening-bible-study-prayer/2026
 -10-14
END:VEVENT
END:VCALENDAR
