BEGIN:VCALENDAR
VERSION:2.0
PRODID:icalendar-ruby
CALSCALE:GREGORIAN
METHOD:PUBLISH
BEGIN:VEVENT
DTSTAMP:20260422T160323Z
UID:22-640335@eastmesabc.com
DTSTART:20261008T010000Z
DTEND:20261008T023000Z
CLASS:PUBLIC
CREATED:20260422T082200
DESCRIPTION:
LAST-MODIFIED:20260422T082200
LOCATION:
SUMMARY:Evening Bible Study & Prayer
URL;VALUE=URI:https://eastmesabc.com/events/evening-bible-study-prayer/2026
 -10-07
END:VEVENT
END:VCALENDAR
