BEGIN:VCALENDAR
VERSION:2.0
PRODID:icalendar-ruby
CALSCALE:GREGORIAN
METHOD:PUBLISH
BEGIN:VEVENT
DTSTAMP:20260422T130017Z
UID:22-639747@eastmesabc.com
DTSTART:20260924T010000Z
DTEND:20260924T023000Z
CLASS:PUBLIC
CREATED:20260422T052649
DESCRIPTION:
LAST-MODIFIED:20260422T052649
LOCATION:
SUMMARY:Evening Bible Study & Prayer
URL;VALUE=URI:https://eastmesabc.com/events/evening-bible-study-prayer/2026
 -09-23
END:VEVENT
END:VCALENDAR
