BEGIN:VCALENDAR
VERSION:2.0
PRODID:icalendar-ruby
CALSCALE:GREGORIAN
METHOD:PUBLISH
BEGIN:VEVENT
DTSTAMP:20260422T112223Z
UID:22-639160@eastmesabc.com
DTSTART:20260917T010000Z
DTEND:20260917T023000Z
CLASS:PUBLIC
CREATED:20260421T182004
DESCRIPTION:
LAST-MODIFIED:20260421T182004
LOCATION:
SUMMARY:Evening Bible Study & Prayer
URL;VALUE=URI:https://eastmesabc.com/events/evening-bible-study-prayer/2026
 -09-16
END:VEVENT
END:VCALENDAR
