BEGIN:VCALENDAR
VERSION:2.0
PRODID:icalendar-ruby
CALSCALE:GREGORIAN
METHOD:PUBLISH
BEGIN:VEVENT
DTSTAMP:20260421T233506Z
UID:22-638567@eastmesabc.com
DTSTART:20260730T010000Z
DTEND:20260730T023000Z
CLASS:PUBLIC
CREATED:20260421T154117
DESCRIPTION:
LAST-MODIFIED:20260421T154117
LOCATION:
SUMMARY:Evening Bible Study & Prayer
URL;VALUE=URI:https://eastmesabc.com/events/evening-bible-study-prayer/2026
 -07-29
END:VEVENT
END:VCALENDAR
