BEGIN:VCALENDAR
VERSION:2.0
PRODID:icalendar-ruby
CALSCALE:GREGORIAN
METHOD:PUBLISH
BEGIN:VEVENT
DTSTAMP:20260421T214621Z
UID:22-637980@eastmesabc.com
DTSTART:20260723T010000Z
DTEND:20260723T023000Z
CLASS:PUBLIC
CREATED:20260421T130306
DESCRIPTION:
LAST-MODIFIED:20260421T130306
LOCATION:
SUMMARY:Evening Bible Study & Prayer
URL;VALUE=URI:https://eastmesabc.com/events/evening-bible-study-prayer/2026
 -07-22
END:VEVENT
END:VCALENDAR
