BEGIN:VCALENDAR
VERSION:2.0
PRODID:icalendar-ruby
CALSCALE:GREGORIAN
METHOD:PUBLISH
BEGIN:VEVENT
DTSTAMP:20260421T194924Z
UID:22-637393@eastmesabc.com
DTSTART:20260716T010000Z
DTEND:20260716T023000Z
CLASS:PUBLIC
CREATED:20260421T102711
DESCRIPTION:
LAST-MODIFIED:20260421T102711
LOCATION:
SUMMARY:Evening Bible Study & Prayer
URL;VALUE=URI:https://eastmesabc.com/events/evening-bible-study-prayer/2026
 -07-15
END:VEVENT
END:VCALENDAR
