BEGIN:VCALENDAR
VERSION:2.0
PRODID:icalendar-ruby
CALSCALE:GREGORIAN
METHOD:PUBLISH
BEGIN:VEVENT
DTSTAMP:20260421T161532Z
UID:22-636805@eastmesabc.com
DTSTART:20260702T010000Z
DTEND:20260702T023000Z
CLASS:PUBLIC
CREATED:20260421T074705
DESCRIPTION:
LAST-MODIFIED:20260421T074705
LOCATION:
SUMMARY:Evening Bible Study & Prayer
URL;VALUE=URI:https://eastmesabc.com/events/evening-bible-study-prayer/2026
 -07-01
END:VEVENT
END:VCALENDAR
