BEGIN:VCALENDAR
VERSION:2.0
PRODID:icalendar-ruby
CALSCALE:GREGORIAN
METHOD:PUBLISH
BEGIN:VEVENT
DTSTAMP:20260421T144205Z
UID:22-636219@eastmesabc.com
DTSTART:20260625T010000Z
DTEND:20260625T023000Z
CLASS:PUBLIC
CREATED:20260421T051140
DESCRIPTION:
LAST-MODIFIED:20260421T051140
LOCATION:
SUMMARY:Evening Bible Study & Prayer
URL;VALUE=URI:https://eastmesabc.com/events/evening-bible-study-prayer/2026
 -06-24
END:VEVENT
END:VCALENDAR
