BEGIN:VCALENDAR
VERSION:2.0
PRODID:icalendar-ruby
CALSCALE:GREGORIAN
METHOD:PUBLISH
BEGIN:VEVENT
DTSTAMP:20260421T095546Z
UID:22-635631@eastmesabc.com
DTSTART:20260604T010000Z
DTEND:20260604T023000Z
CLASS:PUBLIC
CREATED:20260420T180448
DESCRIPTION:
LAST-MODIFIED:20260420T180448
LOCATION:
SUMMARY:Evening Bible Study & Prayer
URL;VALUE=URI:https://eastmesabc.com/events/evening-bible-study-prayer/2026
 -06-03
END:VEVENT
END:VCALENDAR
