BEGIN:VCALENDAR
VERSION:2.0
PRODID:icalendar-ruby
CALSCALE:GREGORIAN
METHOD:PUBLISH
BEGIN:VEVENT
DTSTAMP:20260421T081206Z
UID:22-635630@eastmesabc.com
DTSTART:20260528T010000Z
DTEND:20260528T023000Z
CLASS:PUBLIC
CREATED:20260420T180448
DESCRIPTION:
LAST-MODIFIED:20260420T180448
LOCATION:
SUMMARY:Evening Bible Study & Prayer
URL;VALUE=URI:https://eastmesabc.com/events/evening-bible-study-prayer/2026
 -05-27
END:VEVENT
END:VCALENDAR
