BEGIN:VCALENDAR
VERSION:2.0
PRODID:icalendar-ruby
CALSCALE:GREGORIAN
METHOD:PUBLISH
BEGIN:VEVENT
DTSTAMP:20260422T215859Z
UID:12-641412@eastmesabc.com
DTSTART:20261103T160000Z
DTEND:20261103T170000Z
CLASS:PUBLIC
CREATED:20260422T141202
DESCRIPTION:
LAST-MODIFIED:20260422T141202
LOCATION:Fellowship Hall
SUMMARY:Bible Study
URL;VALUE=URI:https://eastmesabc.com/events/bible-study/2026-11-03
END:VEVENT
END:VCALENDAR
