BEGIN:VCALENDAR
VERSION:2.0
PRODID:icalendar-ruby
CALSCALE:GREGORIAN
METHOD:PUBLISH
BEGIN:VEVENT
DTSTAMP:20260422T184917Z
UID:12-640824@eastmesabc.com
DTSTART:20261020T160000Z
DTEND:20261020T170000Z
CLASS:PUBLIC
CREATED:20260422T111649
DESCRIPTION:
LAST-MODIFIED:20260422T111649
LOCATION:Fellowship Hall
SUMMARY:Bible Study
URL;VALUE=URI:https://eastmesabc.com/events/bible-study/2026-10-20
END:VEVENT
END:VCALENDAR
