BEGIN:VCALENDAR
VERSION:2.0
PRODID:icalendar-ruby
CALSCALE:GREGORIAN
METHOD:PUBLISH
BEGIN:VEVENT
DTSTAMP:20260422T154255Z
UID:12-640236@eastmesabc.com
DTSTART:20261006T160000Z
DTEND:20261006T170000Z
CLASS:PUBLIC
CREATED:20260422T082200
DESCRIPTION:
LAST-MODIFIED:20260422T082200
LOCATION:Fellowship Hall
SUMMARY:Bible Study
URL;VALUE=URI:https://eastmesabc.com/events/bible-study/2026-10-06
END:VEVENT
END:VCALENDAR
